BEGIN:VCALENDAR
PRODID:-//eluceo/ical//2.0/EN
VERSION:2.0
CALSCALE:GREGORIAN
BEGIN:VEVENT
UID:event-39
DTSTAMP:20260424T102812Z
SUMMARY:Vragenuurtje registratie verplichtingsplan (2)
DESCRIPTION:BMTZ is voornemens om registratie als Biomedisch Technoloog in 
 de Zorg in het kwaliteitsregister verplicht te stellen voor leden van BMTZ
 . In afgelopen algemene ledenvergadering (dd. 27 februari 2024) hebben jul
 lie aangeven dit voornemen te steunen\, maar gaven jullie aan dat het onde
 rliggende plan nog onvoldoende uitgewerkt was. De afgelopen maanden heeft 
 de Beroepskwaliteitcommissie het plan verder uitgewerkt. Lees verder in he
 t nieuwsbericht: Denk mee over het registratieverplichtingsplan! - BMTZ 
  Zoom link
DTSTART:20241112T150000Z
DTEND:20241112T160000Z
END:VEVENT
BEGIN:VTIMEZONE
TZID:UTC
BEGIN:STANDARD
DTSTART:20241112T150000
TZNAME:UTC
TZOFFSETTO:+0000
TZOFFSETFROM:+0000
END:STANDARD
END:VTIMEZONE
END:VCALENDAR
