BEGIN:VCALENDAR
PRODID:-//eluceo/ical//2.0/EN
VERSION:2.0
CALSCALE:GREGORIAN
BEGIN:VEVENT
UID:event-18
DTSTAMP:20260425T115445Z
SUMMARY:Physics & Physiology behind Medical Technology (SMPE/e)
DESCRIPTION:Kijk hier voor meer informatie Data zijn: 16\, 17\, 18\, 30 
  september\, 1 oktober\, 9 december
DTSTART:20241209T080000Z
DTEND:20241209T160000Z
END:VEVENT
BEGIN:VTIMEZONE
TZID:UTC
BEGIN:STANDARD
DTSTART:20241209T080000
TZNAME:UTC
TZOFFSETTO:+0000
TZOFFSETFROM:+0000
END:STANDARD
END:VTIMEZONE
END:VCALENDAR
